BEGIN:VCALENDAR
VERSION:2.0
PRODID:-//Squarespace Inc/Squarespace 6//v6//EN
BEGIN:VEVENT
UID:595c1bb7cd0f68ef9f0a553f@squarespace.com
DTSTAMP:20170704T225345Z
DTSTART:20170926T191500Z
DTEND:20170929T081500Z
SUMMARY:Social Enterprise World Forum
END:VEVENT
END:VCALENDAR
