BEGIN:VCALENDAR
VERSION:2.0
PRODID:-//Squarespace Inc/Squarespace 6//v6//EN
BEGIN:VEVENT
UID:5d108962807a88000179a75d@squarespace.com
DTSTAMP:20190624T083345Z
DTSTART:20190626T054500Z
DTEND:20190629T011500Z
SUMMARY:Piata Mai Matariki Festival 2019
END:VEVENT
END:VCALENDAR
