BEGIN:VCALENDAR
VERSION:2.0
PRODID:-//Squarespace Inc/Squarespace 6//v6//EN
BEGIN:VEVENT
UID:595c1abdd482e9cbb5f7201b@squarespace.com
DTSTAMP:20170704T224911Z
DTSTART:20170709T191500Z
DTEND:20170709T201500Z
SUMMARY:Māori Bursary Fund Applications Open
END:VEVENT
END:VCALENDAR
