BEGIN:VCALENDAR
VERSION:2.0
PRODID:-//Squarespace Inc/Squarespace 6//v6//EN
BEGIN:VEVENT
UID:5a815c2fec212d81182dab46@squarespace.com
DTSTAMP:20180212T092235Z
DTSTART:20180305T194500Z
DTEND:20180305T214500Z
SUMMARY:Ministry for Foreign Affairs and Trade (MFAT) is starting public ou
 treach meeting
END:VEVENT
END:VCALENDAR
