BEGIN:VCALENDAR
VERSION:2.0
PRODID:-//Squarespace Inc/Squarespace 6//v6//EN
BEGIN:VEVENT
UID:5d108b9b95d2ac00018fa22f@squarespace.com
DTSTAMP:20190624T083905Z
DTSTART:20190509T184500Z
DTEND:20190509T194500Z
SUMMARY:KUMA Winter breakfast hui
END:VEVENT
END:VCALENDAR
