BEGIN:VCALENDAR
VERSION:2.0
PRODID:-//Squarespace Inc/Squarespace 6//v6//EN
BEGIN:VEVENT
UID:5959b0ff2e69cf918ea349d3@squarespace.com
DTSTAMP:20170703T025157Z
DTSTART:20170702T201500Z
DTEND:20170702T211500Z
SUMMARY:KUMA welcomes Rebecca Swindells - our new Administrator
END:VEVENT
END:VCALENDAR
