BEGIN:VCALENDAR
VERSION:2.0
PRODID:-//Squarespace Inc/Squarespace 6//v6//EN
BEGIN:VEVENT
UID:5d108afc45897f000112fde7@squarespace.com
DTSTAMP:20190624T083626Z
DTSTART:20190613T184500Z
DTEND:20190613T194500Z
SUMMARY:KUMA Networking Winter Breakfast Hui
END:VEVENT
END:VCALENDAR
