BEGIN:VCALENDAR
VERSION:2.0
PRODID:-//Squarespace Inc/Squarespace 6//v6//EN
BEGIN:VEVENT
UID:5a7ccc69e2c483e7c8dd989e@squarespace.com
DTSTAMP:20180208T224043Z
DTSTART:20180213T221500Z
DTEND:20180214T001500Z
SUMMARY:KUMA Māori Business Clinic - Dunedin
END:VEVENT
END:VCALENDAR
