BEGIN:VCALENDAR
VERSION:2.0
PRODID:-//Squarespace Inc/Squarespace 6//v6//EN
BEGIN:VEVENT
UID:5a7ccedb419202a98cb1261a@squarespace.com
DTSTAMP:20180208T223242Z
DTSTART:20180215T001500Z
DTEND:20180215T011500Z
SUMMARY:KUMA Māori Business Clinic - Invercargill
END:VEVENT
END:VCALENDAR
