BEGIN:VCALENDAR
VERSION:2.0
PRODID:-//Squarespace Inc/Squarespace 6//v6//EN
BEGIN:VEVENT
UID:5a98eed653450af63154201b@squarespace.com
DTSTAMP:20180302T062947Z
DTSTART:20180307T221500Z
DTEND:20180308T001500Z
SUMMARY:Invercargill Business Clinic #2
END:VEVENT
END:VCALENDAR
