BEGIN:VCALENDAR
VERSION:2.0
PRODID:-//Squarespace Inc/Squarespace 6//v6//EN
BEGIN:VEVENT
UID:5a98ee428165f5fba84acd59@squarespace.com
DTSTAMP:20180302T063154Z
DTSTART:20180306T221500Z
DTEND:20180307T001500Z
SUMMARY:Dunedin Business Clinic #2
END:VEVENT
END:VCALENDAR
