BEGIN:VCALENDAR
VERSION:2.0
PRODID:-//Squarespace Inc/Squarespace 6//v6//EN
BEGIN:VEVENT
UID:5959b1e636e5d3644bc0eec9@squarespace.com
DTSTAMP:20170703T025528Z
DTSTART:20170713T184500Z
DTEND:20170713T194500Z
SUMMARY:KUMA Breakfast Hui\, Bacon Buttie Station
END:VEVENT
END:VCALENDAR
