BEGIN:VCALENDAR
VERSION:2.0
PRODID:-//Squarespace Inc/Squarespace 6//v6//EN
BEGIN:VEVENT
UID:59829806e45a7cb200ae4e7d@squarespace.com
DTSTAMP:20170803T032954Z
DTSTART:20170810T184500Z
DTEND:20170810T194500Z
SUMMARY:KUMA Breakfast Hui\, Bacon Buttie Station
END:VEVENT
END:VCALENDAR
