BEGIN:VCALENDAR
VERSION:2.0
PRODID:-//Squarespace Inc/Squarespace 6//v6//EN
BEGIN:VEVENT
UID:5a7cce88c83025883fd35df0@squarespace.com
DTSTAMP:20180208T222659Z
DTSTART:20180212T221500Z
DTEND:20180212T231500Z
SUMMARY:KUMA Board Meeting
END:VEVENT
END:VCALENDAR
