BEGIN:VCALENDAR
VERSION:2.0
PRODID:-//Squarespace Inc/Squarespace 6//v6//EN
BEGIN:VEVENT
UID:5a7ccf23652deafb5a72d4a2@squarespace.com
DTSTAMP:20180305T212443Z
DTSTART:20180305T221500Z
DTEND:20180305T231500Z
SUMMARY:KUMA Annual General Meeting
END:VEVENT
END:VCALENDAR
