BEGIN:VCALENDAR
VERSION:2.0
PRODID:-//Squarespace Inc/Squarespace 6//v6//EN
BEGIN:VEVENT
UID:5be15471898583afee325b66@squarespace.com
DTSTAMP:20181109T015352Z
DTSTART:20181207T021500Z
DTEND:20181207T061500Z
SUMMARY:KUMA AGM &amp\; Suzanne Spencer Business Award Evening
END:VEVENT
END:VCALENDAR
