BEGIN:VCALENDAR
VERSION:2.0
PRODID:-//Squarespace Inc/Squarespace 6//v6//EN
BEGIN:VEVENT
UID:5a7cd13524a69428933eb817@squarespace.com
DTSTAMP:20180208T224016Z
DTSTART:20180223T041500Z
DTEND:20180223T054500Z
SUMMARY:Feb KUMA Hui
END:VEVENT
END:VCALENDAR
