BEGIN:VCALENDAR
VERSION:2.0
PRODID:-//Squarespace Inc/Squarespace 6//v6//EN
BEGIN:VEVENT
UID:5959b1581b631b2ebd04496e@squarespace.com
DTSTAMP:20170707T093755Z
DTSTART:20170710T231500Z
DTEND:20170711T001500Z
SUMMARY:Board meeting
END:VEVENT
END:VCALENDAR
