BEGIN:VCALENDAR
VERSION:2.0
PRODID:-//Squarespace Inc/Squarespace 6//v6//EN
BEGIN:VEVENT
UID:5a98f012e4966b729968f8ff@squarespace.com
DTSTAMP:20180302T063319Z
DTSTART:20180305T211500Z
DTEND:20180305T221500Z
SUMMARY:Board Meeting
END:VEVENT
END:VCALENDAR
