BEGIN:VCALENDAR
VERSION:2.0
PRODID:-//Squarespace Inc/Squarespace 6//v6//EN
BEGIN:VEVENT
UID:598298bdf5e231540382e76c@squarespace.com
DTSTAMP:20170803T033046Z
DTSTART:20170731T231500Z
DTEND:20170801T001500Z
SUMMARY:Board Meeting
END:VEVENT
END:VCALENDAR
