BEGIN:VCALENDAR
VERSION:2.0
PRODID:-//Squarespace Inc/Squarespace 6//v6//EN
BEGIN:VEVENT
UID:5923fdcb1e5b6c955138faec@squarespace.com
DTSTAMP:20170523T091743Z
DTSTART:20170602T041500Z
DTEND:20170602T041500Z
SUMMARY:Applications close
END:VEVENT
END:VCALENDAR
