BEGIN:VCALENDAR
VERSION:2.0
PRODID:-//Squarespace Inc/Squarespace 6//v6//EN
BEGIN:VEVENT
UID:591416c99f7456878ba7c2e4@squarespace.com
DTSTAMP:20170703T025407Z
DTSTART:20170628T044500Z
DTEND:20170628T064500Z
SUMMARY:KUMA Queenstown Hui 
END:VEVENT
END:VCALENDAR
