BEGIN:VCALENDAR
VERSION:2.0
PRODID:-//Squarespace Inc/Squarespace 6//v6//EN
BEGIN:VEVENT
UID:5914158d9f7456878ba7b9d8@squarespace.com
DTSTAMP:20170511T074311Z
DTSTART:20170522T191500Z
DTEND:20170522T201500Z
SUMMARY:Xero Tips and Tricks Brekky Workshop
END:VEVENT
END:VCALENDAR
