BEGIN:VCALENDAR
VERSION:2.0
PRODID:-//Squarespace Inc/Squarespace 6//v6//EN
BEGIN:VEVENT
UID:5914170817bffcd4d140682e@squarespace.com
DTSTAMP:20170511T075111Z
DTSTART:20170511T184500Z
DTEND:20170511T194500Z
SUMMARY:KUMA Breakfast Hui
END:VEVENT
END:VCALENDAR
