BEGIN:VCALENDAR
VERSION:2.0
PRODID:-//Squarespace Inc/Squarespace 6//v6//EN
BEGIN:VEVENT
UID:5914180ac534a5e3456cbac2@squarespace.com
DTSTAMP:20170523T073721Z
DTSTART:20170623T044500Z
DTEND:20170623T071500Z
SUMMARY:KUMA 2017 Annual Hui
END:VEVENT
END:VCALENDAR
