BEGIN:VCALENDAR
VERSION:2.0
PRODID:-//Squarespace Inc/Squarespace 6//v6//EN
BEGIN:VEVENT
UID:58c750deebbd1ac83341a9d3@squarespace.com
DTSTAMP:20170404T190623Z
DTSTART:20170412T184500Z
DTEND:20170412T194500Z
SUMMARY:KUMA Breakfast Hui
END:VEVENT
END:VCALENDAR
