BEGIN:VCALENDAR
VERSION:2.0
PRODID:-//Squarespace Inc/Squarespace 6//v6//EN
BEGIN:VEVENT
UID:58e3ec5aebbd1a24417943eb@squarespace.com
DTSTAMP:20170404T190151Z
DTSTART:20170403T231500Z
DTEND:20170404T001500Z
SUMMARY:KUMA Board Meeting
END:VEVENT
END:VCALENDAR
