BEGIN:VCALENDAR
VERSION:2.0
PRODID:-//Squarespace Inc/Squarespace 6//v6//EN
BEGIN:VEVENT
UID:58c75116440243bdb179e1e6@squarespace.com
DTSTAMP:20170703T025347Z
DTSTART:20170629T043000Z
DTEND:20170629T073000Z
SUMMARY:KUMA Invercargill Hui
END:VEVENT
END:VCALENDAR
