BEGIN:VCALENDAR
VERSION:2.0
PRODID:-//Squarespace Inc/Squarespace 6//v6//EN
BEGIN:VEVENT
UID:58c74f46f7e0aba55a509ceb@squarespace.com
DTSTAMP:20170314T020325Z
DTSTART:20170326T221500Z
DTEND:20170326T231500Z
SUMMARY:KUMA Board meeting
END:VEVENT
END:VCALENDAR
