BEGIN:VCALENDAR
VERSION:2.0
PRODID:-//Squarespace Inc/Squarespace 6//v6//EN
BEGIN:VEVENT
UID:583fdcb5d1758e682989a977@squarespace.com
DTSTAMP:20161201T082349Z
DTSTART:20170314T203000Z
DTEND:20170316T041500Z
SUMMARY:Unleash the Māui - Māori Land Based Summit
GEO:-43.532054;172.636225
LOCATION:Lincoln Centre\, Christchurch\, New Zealand
END:VEVENT
END:VCALENDAR
