BEGIN:VCALENDAR
VERSION:2.0
PRODID:-//Squarespace Inc/Squarespace 6//v6//EN
BEGIN:VEVENT
UID:58c74ec537c581e1410866c0@squarespace.com
DTSTAMP:20170314T020231Z
DTSTART:20170313T034500Z
DTEND:20170313T051500Z
SUMMARY:KUMA Board Strategy Meeting
END:VEVENT
END:VCALENDAR
