BEGIN:VCALENDAR
VERSION:2.0
PRODID:-//Squarespace Inc/Squarespace 6//v6//EN
BEGIN:VEVENT
UID:58c74f826b8f5ba6ce5f5ffe@squarespace.com
DTSTAMP:20170314T020431Z
DTSTART:20170309T171500Z
DTEND:20170309T181500Z
SUMMARY:KUMA Breakfast Hui
END:VEVENT
END:VCALENDAR
