BEGIN:VCALENDAR
VERSION:2.0
PRODID:-//Squarespace Inc/Squarespace 6//v6//EN
BEGIN:VEVENT
UID:58c74e45579fb3673e6b6a19@squarespace.com
DTSTAMP:20170314T015922Z
DTSTART:20170228T031500Z
DTEND:20170228T051500Z
SUMMARY:Queenstown Hui
END:VEVENT
END:VCALENDAR
