BEGIN:VCALENDAR
VERSION:2.0
PRODID:-//Squarespace Inc/Squarespace 6//v6//EN
BEGIN:VEVENT
UID:58c7506937c581e141087f2b@squarespace.com
DTSTAMP:20170314T020857Z
DTSTART:20170226T221500Z
DTEND:20170226T231500Z
SUMMARY:KUMA Board meeting - postponed
END:VEVENT
END:VCALENDAR
