BEGIN:VCALENDAR
VERSION:2.0
PRODID:-//Squarespace Inc/Squarespace 6//v6//EN
BEGIN:VEVENT
UID:58c74fb83e00be837cd82c15@squarespace.com
DTSTAMP:20170314T020545Z
DTSTART:20170209T174500Z
DTEND:20170209T184500Z
SUMMARY:KUMA Breakfast Hui
END:VEVENT
END:VCALENDAR
