BEGIN:VCALENDAR
VERSION:2.0
PRODID:-//Squarespace Inc/Squarespace 6//v6//EN
BEGIN:VEVENT
UID:57c79c7cbe6594a0d1135d8d@squarespace.com
DTSTAMP:20160901T031437Z
DTSTART:20160907T221500Z
DTEND:20160908T001500Z
SUMMARY:Te Whata Workshop #3: Māori Business Model 
END:VEVENT
END:VCALENDAR
