BEGIN:VCALENDAR
VERSION:2.0
PRODID:-//Squarespace Inc/Squarespace 6//v6//EN
BEGIN:VEVENT
UID:57c799ba6a4963a6cb301dfb@squarespace.com
DTSTAMP:20160901T031536Z
DTSTART:20160901T211500Z
DTEND:20160901T221500Z
SUMMARY:Te Whata - Māori Entrepreneurship Business Model Workshop
END:VEVENT
END:VCALENDAR
