BEGIN:VCALENDAR
VERSION:2.0
PRODID:-//Squarespace Inc/Squarespace 6//v6//EN
BEGIN:VEVENT
UID:57d8883dd1758e2fbeb1f779@squarespace.com
DTSTAMP:20160914T024206Z
DTSTART:20160915T233000Z
DTEND:20160916T003000Z
SUMMARY:Strategic Plan
END:VEVENT
END:VCALENDAR
