BEGIN:VCALENDAR
VERSION:2.0
PRODID:-//Squarespace Inc/Squarespace 6//v6//EN
BEGIN:VEVENT
UID:57c79730bebafbcfa76a21f0@squarespace.com
DTSTAMP:20160913T231350Z
DTSTART:20160913T231500Z
DTEND:20160914T001500Z
SUMMARY:KUMA Board Meeting
END:VEVENT
END:VCALENDAR
