BEGIN:VCALENDAR
VERSION:2.0
PRODID:-//Squarespace Inc/Squarespace 6//v6//EN
BEGIN:VEVENT
UID:577080e59de4bb4c71eb29c6@squarespace.com
DTSTAMP:20160627T014335Z
DTSTART:20160705T031500Z
DTEND:20160705T051500Z
SUMMARY:Learning from Leaders Events
END:VEVENT
END:VCALENDAR
