BEGIN:VCALENDAR
VERSION:2.0
PRODID:-//Squarespace Inc/Squarespace 6//v6//EN
BEGIN:VEVENT
UID:5772e48c9de4bbeffbf5716c@squarespace.com
DTSTAMP:20160628T210031Z
DTSTART:20160714T044500Z
DTEND:20160714T064500Z
SUMMARY:KUMA Maori Business & Entreprenuership Hui
END:VEVENT
END:VCALENDAR
