BEGIN:VCALENDAR
VERSION:2.0
PRODID:-//Squarespace Inc/Squarespace 6//v6//EN
BEGIN:VEVENT
UID:5755f5bcf699bbbf4db47fb5@squarespace.com
DTSTAMP:20160607T231010Z
DTSTART:20160609T184500Z
DTEND:20160609T194500Z
SUMMARY:KUMA Networking Breakfast
END:VEVENT
END:VCALENDAR
