BEGIN:VCALENDAR
VERSION:2.0
PRODID:-//Squarespace Inc/Squarespace 6//v6//EN
BEGIN:VEVENT
UID:577053bd8419c2d499f2f945@squarespace.com
DTSTAMP:20160626T221728Z
DTSTART:20160702T011500Z
DTEND:20160702T021500Z
SUMMARY:Puaka Matariki 
END:VEVENT
END:VCALENDAR
