BEGIN:VCALENDAR
VERSION:2.0
PRODID:-//Squarespace Inc/Squarespace 6//v6//EN
BEGIN:VEVENT
UID:5759e3c527d4bd62a7aff69d@squarespace.com
DTSTAMP:20160609T214852Z
DTSTART:20160623T054500Z
DTEND:20160623T064500Z
SUMMARY:Whenua Whakapapa Research
END:VEVENT
END:VCALENDAR
