BEGIN:VCALENDAR
VERSION:2.0
PRODID:-//Squarespace Inc/Squarespace 6//v6//EN
BEGIN:VEVENT
UID:57059a66b6aa602d2cfba745@squarespace.com
DTSTAMP:20160406T232338Z
DTSTART:20160414T233000Z
DTEND:20160415T003000Z
SUMMARY:KUMA Lunch
END:VEVENT
END:VCALENDAR
