BEGIN:VCALENDAR
VERSION:2.0
PRODID:-//Squarespace Inc/Squarespace 6//v6//EN
BEGIN:VEVENT
UID:56e0c13c40261d3ec54142f3@squarespace.com
DTSTAMP:20160310T003709Z
DTSTART:20160315T191500Z
DTEND:20160315T231500Z
SUMMARY:WORKSHOP: Accounting 101
END:VEVENT
END:VCALENDAR
