BEGIN:VCALENDAR
VERSION:2.0
PRODID:-//Squarespace Inc/Squarespace 6//v6//EN
BEGIN:VEVENT
UID:56afb11bd51cd4191dab5510@squarespace.com
DTSTAMP:20160226T002004Z
DTSTART:20160218T174500Z
DTEND:20160218T184500Z
SUMMARY:Breakfast Hui at Starfish Cafe\, St Clair
GEO:-45.909263;170.488564
LOCATION:Starfish Cafe\, St Clair\, Dunedin\, New Zealand
END:VEVENT
END:VCALENDAR
