BEGIN:VCALENDAR
VERSION:2.0
PRODID:-//Squarespace Inc/Squarespace 6//v6//EN
BEGIN:VEVENT
UID:5845f8c46a4963b7211737cb@squarespace.com
DTSTAMP:20161205T233248Z
DTSTART:20161215T174500Z
DTEND:20161215T184500Z
SUMMARY:KUMA Breakfast hui
END:VEVENT
END:VCALENDAR
