BEGIN:VCALENDAR
VERSION:2.0
PRODID:-//Squarespace Inc/Squarespace 6//v6//EN
BEGIN:VEVENT
UID:582bc96ee6f2e11c5a92f633@squarespace.com
DTSTAMP:20161116T025208Z
DTSTART:20161120T191500Z
DTEND:20161120T201500Z
SUMMARY:KUMA Strategy Meeting
END:VEVENT
END:VCALENDAR
