BEGIN:VCALENDAR
VERSION:2.0
PRODID:-//Squarespace Inc/Squarespace 6//v6//EN
BEGIN:VEVENT
UID:582bc8f1c534a51764ea9382@squarespace.com
DTSTAMP:20161116T024902Z
DTSTART:20161113T221500Z
DTEND:20161113T231500Z
SUMMARY:KUMA Board meeting
END:VEVENT
END:VCALENDAR
